BEGIN:VCALENDAR
VERSION:2.0
PRODID:-//Dt Elwen//NONSGML kigkonsult.se iCalcreator 2.41.92//
CALSCALE:GREGORIAN
METHOD:PUBLISH
UID:61613863-3232-4662-b636-343533613563
X-WR-CALNAME:iCagenda
X-WR-CALDESC:Event Management Extension for Joomla!
X-WR-RELCALID:3E26604A-50F4-4449-8B3E-E4F4932D05B5
X-WR-TIMEZONE:UTC
BEGIN:VTIMEZONE
TZID:UTC
END:VTIMEZONE
BEGIN:VEVENT
UID:30326231-3064-4337-b761-666263326439
DTSTAMP:20260425T111046Z
CATEGORIES:Championnat
CLASS:PUBLIC
DESCRIPTION;ALTREP="CID:<FFFF__=0ABBE548DFE235B58f9e8a93d@coffeebean.com>":
  \nCaption\n\n\nAuerzäit\nDivisioun\nDoheem\nAuswärts\n\n\n19h30\nDiv. 1 B
 ezirk 1\nBiekerech 1\nËlwen 1\n\n\n19h30\nDiv. 2 Bezirk 1\nËlwen 2\nHousen
  2\n\n\n19h30\nDiv. 2 Bezirk 4\nWeimershaff 1\nËlwen 3\n\n\n19h30\nDiv. 4 
 Bezirk 1\nOsper 1\nËlwen 4\n\n\n19h30\nDiv. 4 Bezirk 2\nËlwen 5\nWëntger 3
 \n\n\n19h30\nDiv.6 \nËlwen 6\n \n\n
DTSTART:20260110T193000Z
DTEND:20260110T220000Z
GEO:00;0
LOCATION:
ORGANIZER:
SEQUENCE:1
SUMMARY:Spilldag 10
TRANSP:OPAQUE
URL:https://dtelwen.lu/index.php/component/icagenda/26-spilldag-10
END:VEVENT
END:VCALENDAR
