BEGIN:VCALENDAR
VERSION:2.0
PRODID:-//Dt Elwen//NONSGML kigkonsult.se iCalcreator 2.41.92//
CALSCALE:GREGORIAN
METHOD:PUBLISH
UID:39666636-3266-4666-b936-633535623165
X-WR-CALNAME:iCagenda
X-WR-CALDESC:Event Management Extension for Joomla!
X-WR-RELCALID:3E26604A-50F4-4449-8B3E-E4F4932D05B5
X-WR-TIMEZONE:UTC
BEGIN:VTIMEZONE
TZID:UTC
END:VTIMEZONE
BEGIN:VEVENT
UID:34333131-6531-4430-a535-323561386330
DTSTAMP:20260421T193503Z
CATEGORIES:Championnat
CLASS:PUBLIC
DESCRIPTION;ALTREP="CID:<FFFF__=0ABBE548DFE235B58f9e8a93d@coffeebean.com>":
  \n\n\n\nAuerzäit\nDivisioun\nDoheem\nAuswärts\n\n\n19:30\nDiv. 1 Bezirk 1
 \nËlwen 1\nRecken 4\n\n\n19:30\nDiv. 2 Bezirk 1\nSchandel 1\nËlwen 2\n\n\n
 19:30\nDiv. 3 Bezirk 1\nËlwen 3\nGilsdref/Veianen 1\n\n\n19:30\nDiv. 4 Bez
 irk 1\nKauneref 3\nËlwen 4\n\n\n19:30\nDiv. 5 Bezirk 1\nHueschtert/Folscht
  9\nËlwen 5\n\n\n19:30\nDiv. 5 Bezirk 2\nËlwen 6\nGilsdref/Veianen 3\n\n
DTSTART:20251018T193000Z
DTEND:20251018T230000Z
GEO:00;0
LOCATION:
ORGANIZER:
SEQUENCE:1
SUMMARY:Spilldag 05 Seniors
TRANSP:OPAQUE
URL:https://dtelwen.lu/index.php/component/icagenda/21-spilldag-05
END:VEVENT
END:VCALENDAR
